BEGIN:VCALENDAR
VERSION:2.0
PRODID:-//Hope Episcopal Church - ECPv6.15.20//NONSGML v1.0//EN
CALSCALE:GREGORIAN
METHOD:PUBLISH
X-ORIGINAL-URL:https://hopeepiscopal.org
X-WR-CALDESC:Events for Hope Episcopal Church
REFRESH-INTERVAL;VALUE=DURATION:PT1H
X-Robots-Tag:noindex
X-PUBLISHED-TTL:PT1H
BEGIN:VTIMEZONE
TZID:America/New_York
BEGIN:DAYLIGHT
TZOFFSETFROM:-0500
TZOFFSETTO:-0400
TZNAME:EDT
DTSTART:20230312T070000
END:DAYLIGHT
BEGIN:STANDARD
TZOFFSETFROM:-0400
TZOFFSETTO:-0500
TZNAME:EST
DTSTART:20231105T060000
END:STANDARD
BEGIN:DAYLIGHT
TZOFFSETFROM:-0500
TZOFFSETTO:-0400
TZNAME:EDT
DTSTART:20240310T070000
END:DAYLIGHT
BEGIN:STANDARD
TZOFFSETFROM:-0400
TZOFFSETTO:-0500
TZNAME:EST
DTSTART:20241103T060000
END:STANDARD
BEGIN:DAYLIGHT
TZOFFSETFROM:-0500
TZOFFSETTO:-0400
TZNAME:EDT
DTSTART:20250309T070000
END:DAYLIGHT
BEGIN:STANDARD
TZOFFSETFROM:-0400
TZOFFSETTO:-0500
TZNAME:EST
DTSTART:20251102T060000
END:STANDARD
END:VTIMEZONE
BEGIN:VEVENT
DTSTART;TZID=America/New_York:20240328T173000
DTEND;TZID=America/New_York:20240328T193000
DTSTAMP:20260424T043410
CREATED:20231222T001533Z
LAST-MODIFIED:20240313T174603Z
UID:2202-1711647000-1711654200@hopeepiscopal.org
SUMMARY:Maundy Thursday Holy Eucharist with Agape Meal
DESCRIPTION:HOLY EUCHARIST II \nPlease join us for Maundy Thursday Holy Eucharist service with Agape Meal and foot washing for those who wish to participate. The entire service and meal will take place in the Parish House.
URL:https://hopeepiscopal.org/event/maundy-thursday/
END:VEVENT
END:VCALENDAR