BEGIN:VCALENDAR
VERSION:2.0
PRODID:-//Hope Episcopal Church - ECPv6.15.20//NONSGML v1.0//EN
CALSCALE:GREGORIAN
METHOD:PUBLISH
X-WR-CALNAME:Hope Episcopal Church
X-ORIGINAL-URL:https://hopeepiscopal.org
X-WR-CALDESC:Events for Hope Episcopal Church
REFRESH-INTERVAL;VALUE=DURATION:PT1H
X-Robots-Tag:noindex
X-PUBLISHED-TTL:PT1H
BEGIN:VTIMEZONE
TZID:America/New_York
BEGIN:DAYLIGHT
TZOFFSETFROM:-0500
TZOFFSETTO:-0400
TZNAME:EDT
DTSTART:20250309T070000
END:DAYLIGHT
BEGIN:STANDARD
TZOFFSETFROM:-0400
TZOFFSETTO:-0500
TZNAME:EST
DTSTART:20251102T060000
END:STANDARD
BEGIN:DAYLIGHT
TZOFFSETFROM:-0500
TZOFFSETTO:-0400
TZNAME:EDT
DTSTART:20260308T070000
END:DAYLIGHT
BEGIN:STANDARD
TZOFFSETFROM:-0400
TZOFFSETTO:-0500
TZNAME:EST
DTSTART:20261101T060000
END:STANDARD
BEGIN:DAYLIGHT
TZOFFSETFROM:-0500
TZOFFSETTO:-0400
TZNAME:EDT
DTSTART:20270314T070000
END:DAYLIGHT
BEGIN:STANDARD
TZOFFSETFROM:-0400
TZOFFSETTO:-0500
TZNAME:EST
DTSTART:20271107T060000
END:STANDARD
END:VTIMEZONE
BEGIN:VEVENT
DTSTART;TZID=America/New_York:20260218T120000
DTEND;TZID=America/New_York:20260218T130000
DTSTAMP:20260423T075952
CREATED:20260216T222729Z
LAST-MODIFIED:20260218T161843Z
UID:3583-1771416000-1771419600@hopeepiscopal.org
SUMMARY:Ash Wednesday Noon Service
DESCRIPTION:You’re invited to begin Lent with Holy Eucharist and the Imposition of ashes at Hope Church. \nIf you are unable to attend in person you may livestream the service here: https://www.youtube.com/live/SnvW8qd3lxQ?si=wKgXSdxYC21AtyBr \nFollow along with the bulletin: AshWednesday-Noon-2026
URL:https://hopeepiscopal.org/event/ash-wednesday-noon-service/
END:VEVENT
BEGIN:VEVENT
DTSTART;TZID=America/New_York:20260218T190000
DTEND;TZID=America/New_York:20260218T200000
DTSTAMP:20260423T075952
CREATED:20260216T223008Z
LAST-MODIFIED:20260216T223008Z
UID:3585-1771441200-1771444800@hopeepiscopal.org
SUMMARY:Convocation Ash Wednesday Service @ St. Paul
DESCRIPTION:You’re invited to begin Lent with Holy Eucharist and the Imposition of ashes this:\n\n\n7:00 PM — Lancaster Convocation service at St. Paul Episcopal Church\n340 Locust St\, Columbia\, PA
URL:https://hopeepiscopal.org/event/convocation-ash-wednesday-service-st-paul/
END:VEVENT
END:VCALENDAR