BEGIN:VCALENDAR
VERSION:2.0
PRODID:-//Hope Episcopal Church - ECPv6.15.20//NONSGML v1.0//EN
CALSCALE:GREGORIAN
METHOD:PUBLISH
X-WR-CALNAME:Hope Episcopal Church
X-ORIGINAL-URL:https://hopeepiscopal.org
X-WR-CALDESC:Events for Hope Episcopal Church
REFRESH-INTERVAL;VALUE=DURATION:PT1H
X-Robots-Tag:noindex
X-PUBLISHED-TTL:PT1H
BEGIN:VTIMEZONE
TZID:America/New_York
BEGIN:DAYLIGHT
TZOFFSETFROM:-0500
TZOFFSETTO:-0400
TZNAME:EDT
DTSTART:20250309T070000
END:DAYLIGHT
BEGIN:STANDARD
TZOFFSETFROM:-0400
TZOFFSETTO:-0500
TZNAME:EST
DTSTART:20251102T060000
END:STANDARD
BEGIN:DAYLIGHT
TZOFFSETFROM:-0500
TZOFFSETTO:-0400
TZNAME:EDT
DTSTART:20260308T070000
END:DAYLIGHT
BEGIN:STANDARD
TZOFFSETFROM:-0400
TZOFFSETTO:-0500
TZNAME:EST
DTSTART:20261101T060000
END:STANDARD
BEGIN:DAYLIGHT
TZOFFSETFROM:-0500
TZOFFSETTO:-0400
TZNAME:EDT
DTSTART:20270314T070000
END:DAYLIGHT
BEGIN:STANDARD
TZOFFSETFROM:-0400
TZOFFSETTO:-0500
TZNAME:EST
DTSTART:20271107T060000
END:STANDARD
END:VTIMEZONE
BEGIN:VEVENT
DTSTART;TZID=America/New_York:20260219T093000
DTEND;TZID=America/New_York:20260219T110000
DTSTAMP:20260423T061746
CREATED:20260216T223646Z
LAST-MODIFIED:20260216T223646Z
UID:3587-1771493400-1771498800@hopeepiscopal.org
SUMMARY:Lenten Bible Study
DESCRIPTION:Conversations with Jesus — A 7-Part Lenten Breakfast Bible Study Series\n\n\nWe continue our regular Thursday morning Breakfast Bible Study with a special series for Lent. Each week is a scene from the Gospels and a real conversation with Jesus.\n\n\n\n7 Thursdays | Feb 19 – Apr 2\n\n\n\nFeb 19 — The Hidden Life: What is real when no one is watching?\n\n\nFeb 26 — What do we do with temptation?\n\n\nMar 5 — What does it mean to be born again?\n\n\nMar 12 — Where are we thirsty?\n\n\nMar 19 — Where are we blind?\n\n\nMar 26 — What has died that God might raise?\n\n\nApr 2 (Maundy Thursday) — What does love look like in service?\n\n\n\nHope Church Parish House (across the street from the sanctuary)\n2425 Mountain Road\, Manheim\, PA 17545\n\n\n\nAll are welcome.
URL:https://hopeepiscopal.org/event/lenten-bible-study/
END:VEVENT
BEGIN:VEVENT
DTSTART;TZID=America/New_York:20260219T180000
DTEND;TZID=America/New_York:20260219T200000
DTSTAMP:20260423T061746
CREATED:20250918T182637Z
LAST-MODIFIED:20250918T182637Z
UID:3377-1771524000-1771531200@hopeepiscopal.org
SUMMARY:To+gether Youth Ministry
DESCRIPTION:The next “To+gether” Youth Group meeting will be Thursday\, February 19th! This vibrant community for young people gathers monthly on the Third Thursday of each month at the Parish House of Hope Episcopal Church. Each meeting begins with a shared meal – dinner is provided – followed by time for connection\, worship\, and spiritual growth. \nCome as you are and discover what it means to follow Jesus in the Way of Love.
URL:https://hopeepiscopal.org/event/together-youth-ministry-9/
END:VEVENT
END:VCALENDAR