BEGIN:VCALENDAR
VERSION:2.0
PRODID:-//Hope Episcopal Church - ECPv6.15.20//NONSGML v1.0//EN
CALSCALE:GREGORIAN
METHOD:PUBLISH
X-WR-CALNAME:Hope Episcopal Church
X-ORIGINAL-URL:https://hopeepiscopal.org
X-WR-CALDESC:Events for Hope Episcopal Church
REFRESH-INTERVAL;VALUE=DURATION:PT1H
X-Robots-Tag:noindex
X-PUBLISHED-TTL:PT1H
BEGIN:VTIMEZONE
TZID:America/New_York
BEGIN:DAYLIGHT
TZOFFSETFROM:-0500
TZOFFSETTO:-0400
TZNAME:EDT
DTSTART:20220313T070000
END:DAYLIGHT
BEGIN:STANDARD
TZOFFSETFROM:-0400
TZOFFSETTO:-0500
TZNAME:EST
DTSTART:20221106T060000
END:STANDARD
BEGIN:DAYLIGHT
TZOFFSETFROM:-0500
TZOFFSETTO:-0400
TZNAME:EDT
DTSTART:20230312T070000
END:DAYLIGHT
BEGIN:STANDARD
TZOFFSETFROM:-0400
TZOFFSETTO:-0500
TZNAME:EST
DTSTART:20231105T060000
END:STANDARD
BEGIN:DAYLIGHT
TZOFFSETFROM:-0500
TZOFFSETTO:-0400
TZNAME:EDT
DTSTART:20240310T070000
END:DAYLIGHT
BEGIN:STANDARD
TZOFFSETFROM:-0400
TZOFFSETTO:-0500
TZNAME:EST
DTSTART:20241103T060000
END:STANDARD
END:VTIMEZONE
BEGIN:VEVENT
DTSTART;TZID=America/New_York:20230604T100000
DTEND;TZID=America/New_York:20230604T110000
DTSTAMP:20260421T043016
CREATED:20230602T173117Z
LAST-MODIFIED:20230602T173421Z
UID:1523-1685872800-1685876400@hopeepiscopal.org
SUMMARY:Trinity Sunday
DESCRIPTION:HOLY EUCHARIST II \nPlease join us for Sunday Service. If you cannot join in person\, you can join the Live Stream here: https://www.youtube.com/@hopechurch5698/streams \nFollow along with the bulletin here: TRINITY_SUNDAY \nLunch will be served in the parish house after the service.  All are welcome to join us.
URL:https://hopeepiscopal.org/event/trinity-sunday/
END:VEVENT
BEGIN:VEVENT
DTSTART;TZID=America/New_York:20230604T113000
DTEND;TZID=America/New_York:20230604T130000
DTSTAMP:20260421T043016
CREATED:20230428T224638Z
LAST-MODIFIED:20230428T224638Z
UID:1277-1685878200-1685883600@hopeepiscopal.org
SUMMARY:Acolyte Training
DESCRIPTION:Following worship on June 4th\, we will have a kid-friendly lunch\, then move back over to the Church for a 90-minute Acolyte Training. Open to all kids ages 7 and up. Since we will also be measuring for robes\, please contact Deacon Nancy if your child would like to Acolyte but cannot a_end that day.
URL:https://hopeepiscopal.org/event/acolyte-training/
END:VEVENT
BEGIN:VEVENT
DTSTART;TZID=America/New_York:20230611T100000
DTEND;TZID=America/New_York:20230611T110000
DTSTAMP:20260421T043016
CREATED:20230602T173321Z
LAST-MODIFIED:20230609T173841Z
UID:1526-1686477600-1686481200@hopeepiscopal.org
SUMMARY:Second Sunday after Pentecost
DESCRIPTION:HOLY EUCHARIST II \nPlease join us for Deacon Nancy’s Installation Sunday Service this Sunday. If you cannot join in person\, you can join the Live Stream here: https://www.youtube.com/@hopechurch5698/streams \nFollow along with the bulletin here: Second Sunday after Pentecost & Deacon Nancy’s Installation \nLunch will be served in the parish house after the service.  All are welcome to join us.
URL:https://hopeepiscopal.org/event/second-sunday-after-pentecost/
END:VEVENT
BEGIN:VEVENT
DTSTART;TZID=America/New_York:20230613T183000
DTEND;TZID=America/New_York:20230613T203000
DTSTAMP:20260421T043016
CREATED:20230614T170625Z
LAST-MODIFIED:20230614T170625Z
UID:1633-1686681000-1686688200@hopeepiscopal.org
SUMMARY:GriefShare
DESCRIPTION:Session 11
URL:https://hopeepiscopal.org/event/griefshare/
END:VEVENT
BEGIN:VEVENT
DTSTART;TZID=America/New_York:20230618T100000
DTEND;TZID=America/New_York:20230618T110000
DTSTAMP:20260421T043016
CREATED:20230602T173502Z
LAST-MODIFIED:20230615T195007Z
UID:1528-1687082400-1687086000@hopeepiscopal.org
SUMMARY:Third Sunday after Pentecost
DESCRIPTION:HOLY EUCHARIST II \nPlease join us for Sunday Service. If you cannot join in person\, you can join the Live Stream here: https://www.youtube.com/@hopechurch5698/streams \nFollow along with the bulletin here: 3rdSundayAfterPentacost \nLunch will be served in the parish house after the service.  All are welcome to join us.
URL:https://hopeepiscopal.org/event/third-sunday-after-pentecost/
END:VEVENT
BEGIN:VEVENT
DTSTART;TZID=America/New_York:20230620T183000
DTEND;TZID=America/New_York:20230620T203000
DTSTAMP:20260421T043016
CREATED:20230614T170837Z
LAST-MODIFIED:20230614T170837Z
UID:1636-1687285800-1687293000@hopeepiscopal.org
SUMMARY:GriefShare
DESCRIPTION:Session 12
URL:https://hopeepiscopal.org/event/griefshare-2/
LOCATION:Hope Episcopal Church\, 2425 Mountain Road\, Manheim\, Pennsylvania\, 17545
END:VEVENT
BEGIN:VEVENT
DTSTART;TZID=America/New_York:20230625T100000
DTEND;TZID=America/New_York:20230625T110000
DTSTAMP:20260421T043016
CREATED:20230602T173551Z
LAST-MODIFIED:20230622T151301Z
UID:1530-1687687200-1687690800@hopeepiscopal.org
SUMMARY:Fourth Sunday after Pentecost w/ Rev. Dolores Smith
DESCRIPTION:HOLY EUCHARIST II \nPlease join us for Sunday Service. If you cannot join in person\, you can join the Live Stream here: https://www.youtube.com/@hopechurch5698/streams \nFollow along with the bulletin here:4thSundayAfterPentacost \nLunch will be served in the parish house after the service.  All are welcome to join us.
URL:https://hopeepiscopal.org/event/fourth-sunday-after-pentecost/
END:VEVENT
BEGIN:VEVENT
DTSTART;TZID=America/New_York:20230626T100000
DTEND;TZID=America/New_York:20230626T130000
DTSTAMP:20260421T043016
CREATED:20230602T174953Z
LAST-MODIFIED:20230602T174953Z
UID:1536-1687773600-1687784400@hopeepiscopal.org
SUMMARY:Vacation Bible School
DESCRIPTION:Join us for a fun\, building themed Vacation Bible School! \nVBS will run Monday\, June 26th through Thursday\, June 29th from 10 a.m. to 1 p.m. All children ages preschool and up are welcome! Lunch will be provided each day. Please email the Parish Administrator (office@hopeepiscopal.org) if you have children with food allergies. \nWe will conclude the week with a short service to celebrate and bless our wood projects on Thursday afternoon. Parents are invited to come back early and join the celebration! We can’t wait to see you there! \nRegister here: https://www.eventbrite.com/e/vacation-bible-school-tickets-621204067087
URL:https://hopeepiscopal.org/event/vacation-bible-school/
END:VEVENT
BEGIN:VEVENT
DTSTART;TZID=America/New_York:20230627T100000
DTEND;TZID=America/New_York:20230627T130000
DTSTAMP:20260421T043016
CREATED:20230602T175037Z
LAST-MODIFIED:20230602T175037Z
UID:1538-1687860000-1687870800@hopeepiscopal.org
SUMMARY:Vacation Bible School
DESCRIPTION:Join us for a fun\, building themed Vacation Bible School! \nVBS will run Monday\, June 26th through Thursday\, June 29th from 10 a.m. to 1 p.m. All children ages preschool and up are welcome! Lunch will be provided each day. Please email the Parish Administrator (office@hopeepiscopal.org) if you have children with food allergies. \nWe will conclude the week with a short service to celebrate and bless our wood projects on Thursday afternoon. Parents are invited to come back early and join the celebration! We can’t wait to see you there! \nRegister here: https://www.eventbrite.com/e/vacation-bible-school-tickets-621204067087
URL:https://hopeepiscopal.org/event/vacation-bible-school-2/
END:VEVENT
BEGIN:VEVENT
DTSTART;TZID=America/New_York:20230627T183000
DTEND;TZID=America/New_York:20230627T203000
DTSTAMP:20260421T043016
CREATED:20230614T170908Z
LAST-MODIFIED:20230614T170908Z
UID:1638-1687890600-1687897800@hopeepiscopal.org
SUMMARY:GriefShare
DESCRIPTION:Session 13
URL:https://hopeepiscopal.org/event/griefshare-3/
LOCATION:Hope Episcopal Church\, 2425 Mountain Road\, Manheim\, Pennsylvania\, 17545
END:VEVENT
BEGIN:VEVENT
DTSTART;TZID=America/New_York:20230628T100000
DTEND;TZID=America/New_York:20230628T130000
DTSTAMP:20260421T043016
CREATED:20230602T175107Z
LAST-MODIFIED:20230602T175107Z
UID:1540-1687946400-1687957200@hopeepiscopal.org
SUMMARY:Vacation Bible School
DESCRIPTION:Join us for a fun\, building themed Vacation Bible School! \nVBS will run Monday\, June 26th through Thursday\, June 29th from 10 a.m. to 1 p.m. All children ages preschool and up are welcome! Lunch will be provided each day. Please email the Parish Administrator (office@hopeepiscopal.org) if you have children with food allergies. \nWe will conclude the week with a short service to celebrate and bless our wood projects on Thursday afternoon. Parents are invited to come back early and join the celebration! We can’t wait to see you there! \nRegister here: https://www.eventbrite.com/e/vacation-bible-school-tickets-621204067087
URL:https://hopeepiscopal.org/event/vacation-bible-school-3/
END:VEVENT
BEGIN:VEVENT
DTSTART;TZID=America/New_York:20230629T100000
DTEND;TZID=America/New_York:20230629T130000
DTSTAMP:20260421T043016
CREATED:20230602T175139Z
LAST-MODIFIED:20230602T175139Z
UID:1542-1688032800-1688043600@hopeepiscopal.org
SUMMARY:Vacation Bible School
DESCRIPTION:Join us for a fun\, building themed Vacation Bible School! \nVBS will run Monday\, June 26th through Thursday\, June 29th from 10 a.m. to 1 p.m. All children ages preschool and up are welcome! Lunch will be provided each day. Please email the Parish Administrator (office@hopeepiscopal.org) if you have children with food allergies. \nWe will conclude the week with a short service to celebrate and bless our wood projects on Thursday afternoon. Parents are invited to come back early and join the celebration! We can’t wait to see you there! \nRegister here: https://www.eventbrite.com/e/vacation-bible-school-tickets-621204067087
URL:https://hopeepiscopal.org/event/vacation-bible-school-4/
END:VEVENT
END:VCALENDAR